BEGIN:VCALENDAR
VERSION:2.0
CALSCALE:GREGORIAN
PRODID:adamgibbons/ics
METHOD:PUBLISH
X-PUBLISHED-TTL:PT1H
BEGIN:VEVENT
UID:oZf2T8vh-qaCH4Sn6dnkJ
SUMMARY:WILL JACOBS & MARCOS COLL  & INVITADOS
DTSTAMP:20260422T183011Z
DTSTART:20261231T203000Z
DESCRIPTION:Will Jacobs & Marcos Coll é un proxecto internacional de blues 
	e soul que nace do encontro entre dous músicos con traxectorias consolidad
	as e unha conexión musical inmediata. Desde que se coñeceron en Berlín fai
	 xa oito anos\, non deixaron de tocar xuntos\, desenvolvendo un son propio
	 que combina a tradición do blues cunha enerxía contemporánea e unha quími
	ca escénica irresistible. [marcoscoll.com](https://marcoscoll.com/) [willj
	acobsband.com](https://willjacobsband.com/home)
LOCATION:Rúa Concepción Arenal\, 5<br>\n15702 Santiago de Compostela
X-MICROSOFT-CDO-BUSYSTATUS:BUSY
DURATION:PT
END:VEVENT
END:VCALENDAR
